BEGIN:VCALENDAR
VERSION:2.0
PRODID:-//TYPO3/NONSGML News system (news)//EN
BEGIN:VEVENT
UID:news-125959@kunst-musikwissenschaft.uni-graz.at
DTSTAMP:20251119T091906Z
DTSTART:20251120T090000Z
DTEND:20251121T180000Z
SUMMARY:30% Dandelion. Blooming Relationships in the Vegetal Turn: Art, Science &amp; Politics

DESCRIPTION:Internationale Konferenz
Von 20.11. bis 21.11., von 10:00 bis 19:00 Uhr
END:VEVENT
END:VCALENDAR
