BEGIN:VCALENDAR
VERSION:2.0
PRODID:-//TYPO3/NONSGML News system (news)//EN
BEGIN:VEVENT
UID:news-131764@kunst-musikwissenschaft.uni-graz.at
DTSTAMP:20251204T105919Z
DTSTART:20251211T140000Z
DTEND:20251211T153000Z
SUMMARY:Forschungsvortrag Elena Minetti

DESCRIPTION:Die Vollendung des Unvollendeten: Über die Finalisierung von Lucrezia von Ottorino und Elsa Respighi zwischen Liebe, Erfolg und Geschäft
END:VEVENT
END:VCALENDAR
