BEGIN:VCALENDAR
VERSION:2.0
PRODID:-//TYPO3/NONSGML News system (news)//EN
BEGIN:VEVENT
UID:news-121567@kunst-musikwissenschaft.uni-graz.at
DTSTAMP:20250115T133103Z
DTSTART:20250121T163000Z
DTEND:20250121T173000Z
SUMMARY:Katja Müller-Helle: Showing Unmaking

DESCRIPTION:Zur technologischen Reproduktion von Nam June Paiks »One for Violin Solo« (1962/2025)
END:VEVENT
END:VCALENDAR
