BEGIN:VCALENDAR
VERSION:2.0
PRODID:-//TYPO3/NONSGML News system (news)//EN
BEGIN:VEVENT
UID:news-127951@kunst-musikwissenschaft.uni-graz.at
DTSTAMP:20250915T125059Z
DTSTART:20250919T123000Z
DTEND:20250919T130000Z
SUMMARY:Vortrag Sabine Flach: Art in a Transmediterranean and Transatlantic World

DESCRIPTION:Workshop &quot;Afrikaforschung in Österreich: Herausforderungen und Möglichkeiten&quot;
END:VEVENT
END:VCALENDAR
