BEGIN:VCALENDAR
VERSION:2.0
PRODID:-//TYPO3/NONSGML News system (news)//EN
BEGIN:VEVENT
UID:news-115424@kunst-musikwissenschaft.uni-graz.at
DTSTAMP:20240926T122519Z
DTSTART:20241004T120000Z
DTEND:20241006T130000Z
SUMMARY:Workshop: Wahrnehmen, Hören, Mimesis und Kritik

DESCRIPTION:Auftakt des FWF-Projektes &quot;Sound as Score&quot;
END:VEVENT
END:VCALENDAR
